BEGIN:VCALENDAR
VERSION:2.0
PRODID:-//Enagic Australia | Official Website | Company Information &amp; Products - ECPv5.4.0.2//NONSGML v1.0//EN
CALSCALE:GREGORIAN
METHOD:PUBLISH
X-WR-CALNAME:Enagic Australia | Official Website | Company Information &amp; Products
X-ORIGINAL-URL:https://enagic-australia.com
X-WR-CALDESC:Events for Enagic Australia | Official Website | Company Information &amp; Products
BEGIN:VTIMEZONE
TZID:Australia/Melbourne
BEGIN:STANDARD
TZOFFSETFROM:+1100
TZOFFSETTO:+1000
TZNAME:AEST
DTSTART:20190406T160000
END:STANDARD
BEGIN:DAYLIGHT
TZOFFSETFROM:+1000
TZOFFSETTO:+1100
TZNAME:AEDT
DTSTART:20191005T160000
END:DAYLIGHT
END:VTIMEZONE
BEGIN:VEVENT
DTSTART;VALUE=DATE:20190422
DTEND;VALUE=DATE:20190423
DTSTAMP:20260421T132350
CREATED:20190326T014123Z
LAST-MODIFIED:20190326T014123Z
UID:3795-1555891200-1555977599@enagic-australia.com
SUMMARY:OFFICE CLOSED – EASTER MONDAY
DESCRIPTION:
URL:https://enagic-australia.com/event/office-closed-easter-monday-2/
LOCATION:Enagic Australia Pty Ltd\, Enagic Australia Pty. Ltd\, Macquarie Park\, NSW\, 2113\, Australia
END:VEVENT
END:VCALENDAR