BEGIN:VCALENDAR
VERSION:2.0
PRODID:-//Enagic Australia | Official Website | Company Information &amp; Products - ECPv5.4.0.2//NONSGML v1.0//EN
CALSCALE:GREGORIAN
METHOD:PUBLISH
X-WR-CALNAME:Enagic Australia | Official Website | Company Information &amp; Products
X-ORIGINAL-URL:https://enagic-australia.com
X-WR-CALDESC:Events for Enagic Australia | Official Website | Company Information &amp; Products
BEGIN:VTIMEZONE
TZID:Australia/Melbourne
BEGIN:STANDARD
TZOFFSETFROM:+1100
TZOFFSETTO:+1000
TZNAME:AEST
DTSTART:20190406T160000
END:STANDARD
BEGIN:DAYLIGHT
TZOFFSETFROM:+1000
TZOFFSETTO:+1100
TZNAME:AEDT
DTSTART:20191005T160000
END:DAYLIGHT
END:VTIMEZONE
BEGIN:VEVENT
DTSTART;TZID=Australia/Melbourne:20190806T103000
DTEND;TZID=Australia/Melbourne:20190806T123000
DTSTAMP:20260422T115836
CREATED:20190801T000542Z
LAST-MODIFIED:20190801T000542Z
UID:3997-1565087400-1565094600@enagic-australia.com
SUMMARY:Kangen Water Demonstration with Rowena Kempton
DESCRIPTION:
URL:https://enagic-australia.com/event/kangen-water-demonstration-with-rowena-kempton-13/
LOCATION:Enagic Australia Pty Ltd\, Enagic Australia Pty. Ltd\, Macquarie Park\, NSW\, 2113\, Australia
END:VEVENT
END:VCALENDAR